BEGIN:VCALENDAR
VERSION:2.0
PRODID:-//Kissimmee Utility Authority - ECPv6.14.2//NONSGML v1.0//EN
CALSCALE:GREGORIAN
METHOD:PUBLISH
X-WR-CALNAME:Kissimmee Utility Authority
X-ORIGINAL-URL:http://174.129.94.242
X-WR-CALDESC:Events for Kissimmee Utility Authority
REFRESH-INTERVAL;VALUE=DURATION:PT1H
X-Robots-Tag:noindex
X-PUBLISHED-TTL:PT1H
BEGIN:VTIMEZONE
TZID:UTC
BEGIN:STANDARD
TZOFFSETFROM:+0000
TZOFFSETTO:+0000
TZNAME:UTC
DTSTART:20230101T000000
END:STANDARD
END:VTIMEZONE
BEGIN:VEVENT
DTSTART;TZID=UTC:20230201T153000
DTEND;TZID=UTC:20230201T180000
DTSTAMP:20260423T063626
CREATED:20231207T012609Z
LAST-MODIFIED:20231211T183257Z
UID:62323-1675265400-1675274400@174.129.94.242
SUMMARY:Regular Meeting - February 1\, 2023
DESCRIPTION:The regular meeting of the Kissimmee Utility Authority Board of Directors will be held on Wednesday\, February 1\, 2023\, at 3:30 p.m. in the Brinson Board Room\, James C. Welsh Administration Building\, 1701 W. Carroll Street\, Kissimmee\, FL 34741. \n2023.02.01 Agenda \n2023.02.01-Minutes \n\n        \n            Attachments\n        2026.04.01 Agenda (119 kB)
URL:http://174.129.94.242/event/regular-meeting-february-1-2023/
CATEGORIES:Board Meetings
END:VEVENT
END:VCALENDAR