BEGIN:VCALENDAR
VERSION:2.0
PRODID:-//Kissimmee Utility Authority - ECPv6.14.2//NONSGML v1.0//EN
CALSCALE:GREGORIAN
METHOD:PUBLISH
X-ORIGINAL-URL:http://174.129.94.242
X-WR-CALDESC:Events for Kissimmee Utility Authority
REFRESH-INTERVAL;VALUE=DURATION:PT1H
X-Robots-Tag:noindex
X-PUBLISHED-TTL:PT1H
BEGIN:VTIMEZONE
TZID:UTC
BEGIN:STANDARD
TZOFFSETFROM:+0000
TZOFFSETTO:+0000
TZNAME:UTC
DTSTART:20230101T000000
END:STANDARD
END:VTIMEZONE
BEGIN:VEVENT
DTSTART;TZID=UTC:20231206T153000
DTEND;TZID=UTC:20231206T180000
DTSTAMP:20260422T152749
CREATED:20231129T203220Z
LAST-MODIFIED:20240103T200610Z
UID:62106-1701876600-1701885600@174.129.94.242
SUMMARY:Regular Meeting - December 6\, 2023
DESCRIPTION:The regular meeting of the Kissimmee Utility Authority board of directors will be held on Wednesday\, December 6\, 2023\, at 3:30 p.m. in the Brinson Board Room\, James C. Welsh Administration Building\, 1701 W. Carroll Street\, Kissimmee\, FL 34741.\n\nClick the link below to download the Meeting Agenda.\n\n2023.12.06 Agenda\n\n\n\n\n        \n            Attachments\n        2026.04.01 Agenda (119 kB)
URL:http://174.129.94.242/event/regular-meeting-december-6-2023/
CATEGORIES:Board Meetings
END:VEVENT
END:VCALENDAR